BEGIN:VCALENDAR
VERSION:2.0
CREATED:20260421T210013Z
PRODID:-//Amerant Bancorp Inc./Equisolve Calendar v1.0//EN
METHOD:PUBLISH
BEGIN:VEVENT
UID:46c0d6a859ee904ae9237143e177dd71
DTSTAMP:20260425T121408Z
DTSTART:20260602T120000Z
DTEND:20260602T130000Z
SUMMARY:Annual Meeting of Shareholders
DESCRIPTION:Annual Meeting of Shareholders\nDate: June 2\, 2026 8:00 AM EDT\nWebcast: http://www.virtualshareholdermeeting.com/AMTB2026
END:VEVENT
END:VCALENDAR
